BEGIN:VCALENDAR
VERSION:2.0
PRODID:-//OARTIMIS//
BEGIN:VEVENT
SUMMARY:Conferință de stagiu #02 2026 - Întocmirea portofoliului II
DTSTART:20260507T180000
DTEND;VALUE=DATE:20260507
DTSTAMP:20260420T212616Z
UID:2256
DESCRIPTION:https://oartimis.rohttps://oartimis.ro/ro/evenimente/conferint
 a-de-stagiu-02-2026/ \nVă invităm să participați la o nouă conferinț
 ă de stagiu cu tema ◧ Întocmirea portofoliului II ◨\, organizată de
  OAR Timiș\, prin GL Stagiu.Conferința va avea loc joi\, 7 mai\, de la o
 ra 18:00\, GRĂDINA ARHITECȚILOR - OAR Timiș\, str. Diaconu Coresi\, nr.
  12\,Timișoara.În cadrul acestei conferințe vor participa trei arhitec
 ți invitați\, care ne vor împărtăși din experiența lor profesional
 ă în ceea ce privește elaborarea portofoliului și susținerea interviu
 rilor.Conferințele de stagiu sunt organizate cu scopul de a sprijini arhi
 tecții care se pregătesc pentru sesiunea de interviuri necesară obține
 rii dreptului de semnătură.Aceste întâlniri oferă participanților in
 formații relevante despre procesul de evaluare și despre așteptările c
 omisiei și constituie un prilej de a clarifica întrebările sau nelămur
 irile legate de interviu.Pentru mai multe informații despre stagiu\, norm
 ele metodologice și seria de interviuri cu membrii CNADS\, accesați link
 ul aici.De asemenea\, vă reamintim că platforma Edu.OAR oferă resurse i
 mportante pentru dezvoltarea profesională\, precum și conferințe dedica
 te stagiarilor.🔗 Vă rugăm să completați formularul pentru a confirm
 a participarea până marți\, 5 mai.Vă așteptăm cu drag!\n
LOCATION:Diaconu Coresi 12\, Timișoara
URL:https://oartimis.rohttps://oartimis.ro/ro/evenimente/conferinta-de-sta
 giu-02-2026/
END:VEVENT
END:VCALENDAR
